BEGIN:VCALENDAR
PRODID:-//kirchenweb.ch gmbh//veranstaltungsausgabe v2.0//DE
VERSION:2.0
METHOD:PUBLISH
BEGIN:VEVENT
DTSTART:20260531T080000Z
DTEND:20260531T090000Z
LOCATION:Dorfkirche Biel-Benken\, Kirchgasse 1\, 4105 Biel-Benken
TRANSP:OPAQUE
SEQUENCE:0
UID:36446-veranstaltung@kirchgemeinde.ch
DTSTAMP:20260414T073613Z
DESCRIPTION:Kollekte:\n\nWir feiern Gottesdienst in der Dorfkirche. Es
  sind alle ganz herzlich eingeladen!\n\nIm Anschluss findet im BeZ ein
  Kirchenkaffee statt.\n\nKontakt: Ökumenischer Schöpfungsgottesdienst
  mit den 1. Klassen der Primarschule Biel-Benken\nKollekte: Kinderdorf
  Pestalozzi / Musik: Valentin Richter\, Orgel\n\nWeitere Infos:
  https://www.kirchgemeinde.ch/veranstaltung/36446
SUMMARY:Schöpfungsgottesdienst mit Taufe\,  Pfarrer Alexander Tontsch und
  Religionslehrerin Tabea Schluchter
PRIORITY:5
X-MICROSOFT-CDO-IMPORTANCE:1
CLASS:PUBLIC
END:VEVENT
END:VCALENDAR
