BEGIN:VCALENDAR
PRODID:-//kirchenweb.ch gmbh//veranstaltungsausgabe v2.0//DE
VERSION:2.0
METHOD:PUBLISH
BEGIN:VEVENT
DTSTART:20260524T080000Z
DTEND:20260524T090000Z
LOCATION:Dorfkirche Biel-Benken\, Kirchgasse 1\, 4105 Biel-Benken
TRANSP:OPAQUE
SEQUENCE:0
UID:36445-veranstaltung@kirchgemeinde.ch
DTSTAMP:20260414T073542Z
DESCRIPTION:Kollekte:\n\nWir feiern Gottesdienst in der Dorfkirche. Es
  sind alle ganz herzlich eingeladen!\n\nIm Anschluss findet im BeZ ein
  Kirchenkaffee statt.\n\nKontakt: Kollekte: Stiftung we help\, Südsudan /
  Musik: Valentin Richter\, Orgel\n\nWeitere Infos:
  https://www.kirchgemeinde.ch/veranstaltung/36445
SUMMARY:Gottesdienst zum Pfingstsonntag mit Abendmahl\, Pfarrer Peter
  Dietz
PRIORITY:5
X-MICROSOFT-CDO-IMPORTANCE:1
CLASS:PUBLIC
END:VEVENT
END:VCALENDAR
