BEGIN:VCALENDAR
PRODID:-//kirchenweb.ch gmbh//veranstaltungsausgabe v2.0//DE
VERSION:2.0
METHOD:PUBLISH
BEGIN:VEVENT
DTSTART:20260516T090000Z
DTEND:20260516T100000Z
LOCATION:Tannerhof Schnüre\, \,
TRANSP:OPAQUE
SEQUENCE:0
UID:36443-veranstaltung@kirchgemeinde.ch
DTSTAMP:20260414T073643Z
DESCRIPTION:Kontakt: Kollekte: Wegbegleitung Leimental\n\nWeitere Infos:
  https://www.kirchgemeinde.ch/veranstaltung/36443
SUMMARY:ökumenischer Festgottesdienst mit Pfarrer Alexander Tontsch und
  Pastoralraumleiterin Elke Kreiselmeyer
PRIORITY:5
X-MICROSOFT-CDO-IMPORTANCE:1
CLASS:PUBLIC
END:VEVENT
END:VCALENDAR
