BEGIN:VCALENDAR
PRODID:-//kirchenweb.ch gmbh//veranstaltungsausgabe v2.0//DE
VERSION:2.0
METHOD:PUBLISH
BEGIN:VEVENT
DTSTART:20260510T080000Z
DTEND:20260510T090000Z
LOCATION:Dorfkirche Biel-Benken\, Kirchgasse 1\, 4105 Biel-Benken
TRANSP:OPAQUE
SEQUENCE:0
UID:36442-veranstaltung@kirchgemeinde.ch
DTSTAMP:20260407T055027Z
DESCRIPTION:Kollekte:\n\nWir feiern Gottesdienst in der Dorfkirche. Es
  sind alle ganz herzlich eingeladen!\n\nIm Anschluss findet im BeZ ein
  Kirchenkaffee statt.\n\nKontakt: Kollekte: CBM Christoffel Blindenmission
  / Musik: Valentin Richter\, Orgel\n\nWeitere Infos:
  https://www.kirchgemeinde.ch/veranstaltung/36442
SUMMARY:Gottesdienst zum Muttertag mit Pfarrer Luzius Müller
PRIORITY:5
X-MICROSOFT-CDO-IMPORTANCE:1
CLASS:PUBLIC
END:VEVENT
END:VCALENDAR
