BEGIN:VCALENDAR
PRODID:-//kirchenweb.ch gmbh//veranstaltungsausgabe v2.0//DE
VERSION:2.0
METHOD:PUBLISH
BEGIN:VEVENT
DTSTART:20251221T090000Z
DTEND:20251221T100000Z
LOCATION:Dorfkirche Biel-Benken\, Kirchgasse 1\, 4105 Biel-Benken
TRANSP:OPAQUE
SEQUENCE:0
UID:35836-veranstaltung@kirchgemeinde.ch
DTSTAMP:20251207T125133Z
DESCRIPTION:Kollekte: \n\nWir feiern einen Abendmahlsgottesdienst in der
  Dorfkirche. Es sind alle herzlich eingeladen\, mitzufeiern\,
  mitzusingen\, zu essen und zu trinken.\n\nIm Anschluss findet im BeZ das
  Kirchenkaffee statt.\n\nKontakt: Kollekte: Diakonische Stadtarbeit ELIM
  Basel / Musik: Valentin Richter\, Orgel\n\nWeitere Infos:
  https://www.kirchgemeinde.ch/veranstaltung/35836
SUMMARY:Gottesdienst zum 4. Advent\, Pfarrer Andreas Berde
PRIORITY:5
X-MICROSOFT-CDO-IMPORTANCE:1
CLASS:PUBLIC
END:VEVENT
END:VCALENDAR
