BEGIN:VCALENDAR
PRODID:-//kirchenweb.ch gmbh//veranstaltungsausgabe v2.0//DE
VERSION:2.0
METHOD:PUBLISH
BEGIN:VEVENT
DTSTART:20250511T080000Z
DTEND:20250511T090000Z
LOCATION:Dorfkirche Biel-Benken\, \,
TRANSP:OPAQUE
SEQUENCE:0
UID:35111-veranstaltung@kirchgemeinde.ch
DTSTAMP:20250407T094120Z
DESCRIPTION:Kontakt: Kollekte: Kirche BL Nr. 6 / Frauenarbeit /\nMusik:
  Véronique Noelpp\, Orgel\n\nWeitere Infos:
  https://www.kirchgemeinde.ch/veranstaltung/35111
SUMMARY:Gottesdienst\, Pfarrerin Tamara Hari
PRIORITY:5
X-MICROSOFT-CDO-IMPORTANCE:1
CLASS:PUBLIC
END:VEVENT
END:VCALENDAR
